BEGIN:VCALENDAR
VERSION:2.0
PRODID:-//Town of Jarratt - ECPv6.15.17.1//NONSGML v1.0//EN
CALSCALE:GREGORIAN
METHOD:PUBLISH
X-WR-CALNAME:Town of Jarratt
X-ORIGINAL-URL:https://jarrattva.com
X-WR-CALDESC:Events for Town of Jarratt
REFRESH-INTERVAL;VALUE=DURATION:PT1H
X-Robots-Tag:noindex
X-PUBLISHED-TTL:PT1H
BEGIN:VTIMEZONE
TZID:America/New_York
BEGIN:DAYLIGHT
TZOFFSETFROM:-0500
TZOFFSETTO:-0400
TZNAME:EDT
DTSTART:20180311T070000
END:DAYLIGHT
BEGIN:STANDARD
TZOFFSETFROM:-0400
TZOFFSETTO:-0500
TZNAME:EST
DTSTART:20181104T060000
END:STANDARD
BEGIN:DAYLIGHT
TZOFFSETFROM:-0500
TZOFFSETTO:-0400
TZNAME:EDT
DTSTART:20190310T070000
END:DAYLIGHT
BEGIN:STANDARD
TZOFFSETFROM:-0400
TZOFFSETTO:-0500
TZNAME:EST
DTSTART:20191103T060000
END:STANDARD
BEGIN:DAYLIGHT
TZOFFSETFROM:-0500
TZOFFSETTO:-0400
TZNAME:EDT
DTSTART:20200308T070000
END:DAYLIGHT
BEGIN:STANDARD
TZOFFSETFROM:-0400
TZOFFSETTO:-0500
TZNAME:EST
DTSTART:20201101T060000
END:STANDARD
END:VTIMEZONE
BEGIN:VEVENT
DTSTART;TZID=America/New_York:20190506T200000
DTEND;TZID=America/New_York:20190506T200000
DTSTAMP:20260424T062336
CREATED:20200304T234609Z
LAST-MODIFIED:20200304T234609Z
UID:10000050-1557172800-1557172800@jarrattva.com
SUMMARY:Deadline for Submitting Restaurant Lease Proposal
DESCRIPTION:
URL:https://jarrattva.com/event/deadline-for-submitting-restaurant-lease-proposal/
CATEGORIES:RFP
END:VEVENT
BEGIN:VEVENT
DTSTART;TZID=America/New_York:20190507T190000
DTEND;TZID=America/New_York:20190507T190000
DTSTAMP:20260424T062336
CREATED:20200304T234641Z
LAST-MODIFIED:20200304T234641Z
UID:10000049-1557255600-1557255600@jarrattva.com
SUMMARY:Opening of Restaurant RFP
DESCRIPTION:
URL:https://jarrattva.com/event/opening-of-restaurant-rfp/
CATEGORIES:RFP
END:VEVENT
BEGIN:VEVENT
DTSTART;TZID=America/New_York:20190514T190000
DTEND;TZID=America/New_York:20190514T190000
DTSTAMP:20260424T062336
CREATED:20200304T234225Z
LAST-MODIFIED:20230103T003423Z
UID:10000059-1557860400-1557860400@jarrattva.com
SUMMARY:Town Meeting
DESCRIPTION:
URL:https://jarrattva.com/event/town-meeting/2019-05-14/
CATEGORIES:Town Board
END:VEVENT
BEGIN:VEVENT
DTSTART;TZID=America/New_York:20190514T200000
DTEND;TZID=America/New_York:20190514T200000
DTSTAMP:20260424T062336
CREATED:20200304T234939Z
LAST-MODIFIED:20230103T003317Z
UID:10000121-1557864000-1557864000@jarrattva.com
SUMMARY:Council Work Session
DESCRIPTION:
URL:https://jarrattva.com/event/council-work-session-2/2019-05-14/
CATEGORIES:Meetings
END:VEVENT
END:VCALENDAR